BEGIN:VCALENDAR
VERSION:2.0
PRODID:-//the Polka seven - ECPv6.15.20//NONSGML v1.0//EN
CALSCALE:GREGORIAN
METHOD:PUBLISH
X-WR-CALNAME:the Polka seven
X-ORIGINAL-URL:https://thepolkaseven.de
X-WR-CALDESC:Veranstaltungen für the Polka seven
REFRESH-INTERVAL;VALUE=DURATION:PT1H
X-Robots-Tag:noindex
X-PUBLISHED-TTL:PT1H
BEGIN:VTIMEZONE
TZID:Europe/Berlin
BEGIN:DAYLIGHT
TZOFFSETFROM:+0100
TZOFFSETTO:+0200
TZNAME:CEST
DTSTART:20240331T010000
END:DAYLIGHT
BEGIN:STANDARD
TZOFFSETFROM:+0200
TZOFFSETTO:+0100
TZNAME:CET
DTSTART:20241027T010000
END:STANDARD
BEGIN:DAYLIGHT
TZOFFSETFROM:+0100
TZOFFSETTO:+0200
TZNAME:CEST
DTSTART:20250330T010000
END:DAYLIGHT
BEGIN:STANDARD
TZOFFSETFROM:+0200
TZOFFSETTO:+0100
TZNAME:CET
DTSTART:20251026T010000
END:STANDARD
BEGIN:DAYLIGHT
TZOFFSETFROM:+0100
TZOFFSETTO:+0200
TZNAME:CEST
DTSTART:20260329T010000
END:DAYLIGHT
BEGIN:STANDARD
TZOFFSETFROM:+0200
TZOFFSETTO:+0100
TZNAME:CET
DTSTART:20261025T010000
END:STANDARD
END:VTIMEZONE
BEGIN:VEVENT
DTSTART;TZID=Europe/Berlin:20250907T113000
DTEND;TZID=Europe/Berlin:20250907T143000
DTSTAMP:20260421T193152
CREATED:20250519T152931Z
LAST-MODIFIED:20250519T152931Z
UID:4648-1757244600-1757255400@thepolkaseven.de
SUMMARY:Frühschoppen beim MSC Locherhof
DESCRIPTION:
URL:https://thepolkaseven.de/event/fruehschoppen-beim-msc-locherhof/
END:VEVENT
BEGIN:VEVENT
DTSTART;TZID=Europe/Berlin:20250920T210000
DTEND;TZID=Europe/Berlin:20250920T230000
DTSTAMP:20260421T193152
CREATED:20250316T165323Z
LAST-MODIFIED:20250316T165323Z
UID:4614-1758402000-1758409200@thepolkaseven.de
SUMMARY:Weinfest MV Fischingen
DESCRIPTION:
URL:https://thepolkaseven.de/event/weinfest-mv-fischingen/
LOCATION:MV Fischingen\, Wehrsteinhalle\, 72172 Sulz Fischingen
END:VEVENT
BEGIN:VEVENT
DTSTART;TZID=Europe/Berlin:20250927T200000
DTEND;TZID=Europe/Berlin:20250927T230000
DTSTAMP:20260421T193152
CREATED:20250312T191125Z
LAST-MODIFIED:20250312T191125Z
UID:4604-1759003200-1759014000@thepolkaseven.de
SUMMARY:100 Jahre Radfahrverein Beffendorf
DESCRIPTION:
URL:https://thepolkaseven.de/event/100-jahre-radfahrverein-beffendorf/
LOCATION:Beffendorf\, Beffendorf 78727 Oberndorf am Neckar
END:VEVENT
END:VCALENDAR