BEGIN:VCALENDAR
VERSION:2.0
PRODID:-//the Polka seven - ECPv6.15.20//NONSGML v1.0//EN
CALSCALE:GREGORIAN
METHOD:PUBLISH
X-WR-CALNAME:the Polka seven
X-ORIGINAL-URL:https://thepolkaseven.de
X-WR-CALDESC:Veranstaltungen für the Polka seven
REFRESH-INTERVAL;VALUE=DURATION:PT1H
X-Robots-Tag:noindex
X-PUBLISHED-TTL:PT1H
BEGIN:VTIMEZONE
TZID:Europe/Berlin
BEGIN:DAYLIGHT
TZOFFSETFROM:+0100
TZOFFSETTO:+0200
TZNAME:CEST
DTSTART:20240331T010000
END:DAYLIGHT
BEGIN:STANDARD
TZOFFSETFROM:+0200
TZOFFSETTO:+0100
TZNAME:CET
DTSTART:20241027T010000
END:STANDARD
BEGIN:DAYLIGHT
TZOFFSETFROM:+0100
TZOFFSETTO:+0200
TZNAME:CEST
DTSTART:20250330T010000
END:DAYLIGHT
BEGIN:STANDARD
TZOFFSETFROM:+0200
TZOFFSETTO:+0100
TZNAME:CET
DTSTART:20251026T010000
END:STANDARD
BEGIN:DAYLIGHT
TZOFFSETFROM:+0100
TZOFFSETTO:+0200
TZNAME:CEST
DTSTART:20260329T010000
END:DAYLIGHT
BEGIN:STANDARD
TZOFFSETFROM:+0200
TZOFFSETTO:+0100
TZNAME:CET
DTSTART:20261025T010000
END:STANDARD
END:VTIMEZONE
BEGIN:VEVENT
DTSTART;VALUE=DATE:20250809
DTEND;VALUE=DATE:20250810
DTSTAMP:20260421T220306
CREATED:20241231T092703Z
LAST-MODIFIED:20241231T092722Z
UID:4501-1754697600-1754783999@thepolkaseven.de
SUMMARY:Private Veranstaltung
DESCRIPTION:
URL:https://thepolkaseven.de/event/private-veransataltung/
END:VEVENT
BEGIN:VEVENT
DTSTART;TZID=Europe/Berlin:20250824T110000
DTEND;TZID=Europe/Berlin:20250824T140000
DTSTAMP:20260421T220306
CREATED:20241231T092826Z
LAST-MODIFIED:20241231T092826Z
UID:4504-1756033200-1756044000@thepolkaseven.de
SUMMARY:Bochingen Biergartenfest
DESCRIPTION:
URL:https://thepolkaseven.de/event/bochingen-biergartenfest/
END:VEVENT
BEGIN:VEVENT
DTSTART;TZID=Europe/Berlin:20250830T220000
DTEND;TZID=Europe/Berlin:20250831T010000
DTSTAMP:20260421T220306
CREATED:20250519T152511Z
LAST-MODIFIED:20250519T152511Z
UID:4646-1756591200-1756602000@thepolkaseven.de
SUMMARY:Bayrisches Wochenende bei der Musikkapelle Neudingen E.V.
DESCRIPTION:
URL:https://thepolkaseven.de/event/bayrisches-wochenende-bei-der-musikkapelle-neudingen-e-v/
END:VEVENT
END:VCALENDAR