BEGIN:VCALENDAR
VERSION:2.0
PRODID:-//the Polka seven - ECPv6.15.20//NONSGML v1.0//EN
CALSCALE:GREGORIAN
METHOD:PUBLISH
X-ORIGINAL-URL:https://thepolkaseven.de
X-WR-CALDESC:Veranstaltungen für the Polka seven
REFRESH-INTERVAL;VALUE=DURATION:PT1H
X-Robots-Tag:noindex
X-PUBLISHED-TTL:PT1H
BEGIN:VTIMEZONE
TZID:Europe/Berlin
BEGIN:DAYLIGHT
TZOFFSETFROM:+0100
TZOFFSETTO:+0200
TZNAME:CEST
DTSTART:20230326T010000
END:DAYLIGHT
BEGIN:STANDARD
TZOFFSETFROM:+0200
TZOFFSETTO:+0100
TZNAME:CET
DTSTART:20231029T010000
END:STANDARD
BEGIN:DAYLIGHT
TZOFFSETFROM:+0100
TZOFFSETTO:+0200
TZNAME:CEST
DTSTART:20240331T010000
END:DAYLIGHT
BEGIN:STANDARD
TZOFFSETFROM:+0200
TZOFFSETTO:+0100
TZNAME:CET
DTSTART:20241027T010000
END:STANDARD
BEGIN:DAYLIGHT
TZOFFSETFROM:+0100
TZOFFSETTO:+0200
TZNAME:CEST
DTSTART:20250330T010000
END:DAYLIGHT
BEGIN:STANDARD
TZOFFSETFROM:+0200
TZOFFSETTO:+0100
TZNAME:CET
DTSTART:20251026T010000
END:STANDARD
END:VTIMEZONE
BEGIN:VEVENT
DTSTART;TZID=Europe/Berlin:20241005T193000
DTEND;TZID=Europe/Berlin:20241005T213000
DTSTAMP:20260423T212620
CREATED:20240721T203249Z
LAST-MODIFIED:20240721T203249Z
UID:4353-1728156600-1728163800@thepolkaseven.de
SUMMARY:Weinfest\, des MV Gosheim
DESCRIPTION:
URL:https://thepolkaseven.de/event/weinfest-des-mv-gosheim/
END:VEVENT
BEGIN:VEVENT
DTSTART;TZID=Europe/Berlin:20241012T180000
DTEND;TZID=Europe/Berlin:20241012T210000
DTSTAMP:20260423T212620
CREATED:20240723T172810Z
LAST-MODIFIED:20240723T172810Z
UID:4359-1728756000-1728766800@thepolkaseven.de
SUMMARY:Herbstfest des HgV Oberndorf
DESCRIPTION:
URL:https://thepolkaseven.de/event/herbstfest-des-hgv-oberndorf/
LOCATION:Oberndorf\, Oberndorf am Neckar\, 78727
END:VEVENT
END:VCALENDAR