BEGIN:VCALENDAR
VERSION:2.0
PRODID:-//the Polka seven - ECPv6.15.20//NONSGML v1.0//EN
CALSCALE:GREGORIAN
METHOD:PUBLISH
X-ORIGINAL-URL:https://thepolkaseven.de
X-WR-CALDESC:Veranstaltungen für the Polka seven
REFRESH-INTERVAL;VALUE=DURATION:PT1H
X-Robots-Tag:noindex
X-PUBLISHED-TTL:PT1H
BEGIN:VTIMEZONE
TZID:Europe/Berlin
BEGIN:DAYLIGHT
TZOFFSETFROM:+0100
TZOFFSETTO:+0200
TZNAME:CEST
DTSTART:20220327T010000
END:DAYLIGHT
BEGIN:STANDARD
TZOFFSETFROM:+0200
TZOFFSETTO:+0100
TZNAME:CET
DTSTART:20221030T010000
END:STANDARD
BEGIN:DAYLIGHT
TZOFFSETFROM:+0100
TZOFFSETTO:+0200
TZNAME:CEST
DTSTART:20230326T010000
END:DAYLIGHT
BEGIN:STANDARD
TZOFFSETFROM:+0200
TZOFFSETTO:+0100
TZNAME:CET
DTSTART:20231029T010000
END:STANDARD
BEGIN:DAYLIGHT
TZOFFSETFROM:+0100
TZOFFSETTO:+0200
TZNAME:CEST
DTSTART:20240331T010000
END:DAYLIGHT
BEGIN:STANDARD
TZOFFSETFROM:+0200
TZOFFSETTO:+0100
TZNAME:CET
DTSTART:20241027T010000
END:STANDARD
END:VTIMEZONE
BEGIN:VEVENT
DTSTART;TZID=Europe/Berlin:20230708T193000
DTEND;TZID=Europe/Berlin:20230708T233000
DTSTAMP:20260425T231140
CREATED:20230216T143835Z
LAST-MODIFIED:20230216T143835Z
UID:4136-1688844600-1688859000@thepolkaseven.de
SUMMARY:Sommerfest des MV Sulgen im Festzelt am 08.07.2023 von 19.30 Uhr - 23.30 Uhr
DESCRIPTION:
URL:https://thepolkaseven.de/event/sommerfest-des-mv-sulgen-im-festzelt-am-08-07-2023-von-19-30-uhr-23-30-uhr/
END:VEVENT
BEGIN:VEVENT
DTSTART;TZID=Europe/Berlin:20230709T113000
DTEND;TZID=Europe/Berlin:20230709T140000
DTSTAMP:20260425T231140
CREATED:20230216T144051Z
LAST-MODIFIED:20230217T140459Z
UID:4138-1688902200-1688911200@thepolkaseven.de
SUMMARY:Sommerfest Liederkranz Schwenningen a.d. Möglinshöhe am 09.07.2023 11.30 Uhr - 14.00 Uhr
DESCRIPTION:
URL:https://thepolkaseven.de/event/sommerfest-liederkranz-schwenningen-a-d-moeglinshoehe-am-09-07-2023-10-30-uhr-13-30-uhr/
END:VEVENT
BEGIN:VEVENT
DTSTART;TZID=Europe/Berlin:20230722T213000
DTEND;TZID=Europe/Berlin:20230723T003000
DTSTAMP:20260425T231140
CREATED:20230315T125056Z
LAST-MODIFIED:20230315T125056Z
UID:4152-1690061400-1690072200@thepolkaseven.de
SUMMARY:Waldfest des MV Gremmelsbach am 22.07.2023 von 21.30 Uhr - 0.30 Uhr
DESCRIPTION:
URL:https://thepolkaseven.de/event/waldfest-des-mv-gremmelsbach-am-22-07-2023-von-21-30-uhr-0-30-uhr/
END:VEVENT
END:VCALENDAR