BEGIN:VCALENDAR
VERSION:2.0
PRODID:-//the Polka seven - ECPv6.15.20//NONSGML v1.0//EN
CALSCALE:GREGORIAN
METHOD:PUBLISH
X-WR-CALNAME:the Polka seven
X-ORIGINAL-URL:https://thepolkaseven.de
X-WR-CALDESC:Veranstaltungen für the Polka seven
REFRESH-INTERVAL;VALUE=DURATION:PT1H
X-Robots-Tag:noindex
X-PUBLISHED-TTL:PT1H
BEGIN:VTIMEZONE
TZID:Europe/Berlin
BEGIN:DAYLIGHT
TZOFFSETFROM:+0100
TZOFFSETTO:+0200
TZNAME:CEST
DTSTART:20250330T010000
END:DAYLIGHT
BEGIN:STANDARD
TZOFFSETFROM:+0200
TZOFFSETTO:+0100
TZNAME:CET
DTSTART:20251026T010000
END:STANDARD
BEGIN:DAYLIGHT
TZOFFSETFROM:+0100
TZOFFSETTO:+0200
TZNAME:CEST
DTSTART:20260329T010000
END:DAYLIGHT
BEGIN:STANDARD
TZOFFSETFROM:+0200
TZOFFSETTO:+0100
TZNAME:CET
DTSTART:20261025T010000
END:STANDARD
BEGIN:DAYLIGHT
TZOFFSETFROM:+0100
TZOFFSETTO:+0200
TZNAME:CEST
DTSTART:20270328T010000
END:DAYLIGHT
BEGIN:STANDARD
TZOFFSETFROM:+0200
TZOFFSETTO:+0100
TZNAME:CET
DTSTART:20271031T010000
END:STANDARD
END:VTIMEZONE
BEGIN:VEVENT
DTSTART;TZID=Europe/Berlin:20260727T190000
DTEND;TZID=Europe/Berlin:20260727T213000
DTSTAMP:20260421T181517
CREATED:20260412T181723Z
LAST-MODIFIED:20260412T181723Z
UID:4863-1785178800-1785187800@thepolkaseven.de
SUMMARY:Handwerkervesper Gutach
DESCRIPTION:
URL:https://thepolkaseven.de/event/handwerkervesper-gutach/
LOCATION:Kurpark Gutach\, Kirchstraße 1\, Gutach\, 77793
END:VEVENT
END:VCALENDAR