BEGIN:VCALENDAR
VERSION:2.0
PRODID:-//the Polka seven - ECPv6.15.20//NONSGML v1.0//EN
CALSCALE:GREGORIAN
METHOD:PUBLISH
X-ORIGINAL-URL:https://thepolkaseven.de
X-WR-CALDESC:Veranstaltungen für the Polka seven
REFRESH-INTERVAL;VALUE=DURATION:PT1H
X-Robots-Tag:noindex
X-PUBLISHED-TTL:PT1H
BEGIN:VTIMEZONE
TZID:Europe/Berlin
BEGIN:DAYLIGHT
TZOFFSETFROM:+0100
TZOFFSETTO:+0200
TZNAME:CEST
DTSTART:20230326T010000
END:DAYLIGHT
BEGIN:STANDARD
TZOFFSETFROM:+0200
TZOFFSETTO:+0100
TZNAME:CET
DTSTART:20231029T010000
END:STANDARD
BEGIN:DAYLIGHT
TZOFFSETFROM:+0100
TZOFFSETTO:+0200
TZNAME:CEST
DTSTART:20240331T010000
END:DAYLIGHT
BEGIN:STANDARD
TZOFFSETFROM:+0200
TZOFFSETTO:+0100
TZNAME:CET
DTSTART:20241027T010000
END:STANDARD
BEGIN:DAYLIGHT
TZOFFSETFROM:+0100
TZOFFSETTO:+0200
TZNAME:CEST
DTSTART:20250330T010000
END:DAYLIGHT
BEGIN:STANDARD
TZOFFSETFROM:+0200
TZOFFSETTO:+0100
TZNAME:CET
DTSTART:20251026T010000
END:STANDARD
END:VTIMEZONE
BEGIN:VEVENT
DTSTART;TZID=Europe/Berlin:20240720T173000
DTEND;TZID=Europe/Berlin:20240720T193000
DTSTAMP:20260424T020101
CREATED:20231010T084519Z
LAST-MODIFIED:20231010T084702Z
UID:4211-1721496600-1721503800@thepolkaseven.de
SUMMARY:Fassanstich beim Hopfenfest der Klosterbrauerei in Alpirsbach am 20.07.2024 von 17.30Uhr - 19.30Uhr im Brauereihof
DESCRIPTION:
URL:https://thepolkaseven.de/event/fassanstich-beim-hopfenfest-der-klosterbrauerei-in-alpirsbach-am-20-07-2024-von-17-30uhr-19-30uhr/
END:VEVENT
END:VCALENDAR