BEGIN:VCALENDAR
VERSION:2.0
PRODID:-//the Polka seven - ECPv6.15.20//NONSGML v1.0//EN
CALSCALE:GREGORIAN
METHOD:PUBLISH
X-ORIGINAL-URL:https://thepolkaseven.de
X-WR-CALDESC:Veranstaltungen für the Polka seven
REFRESH-INTERVAL;VALUE=DURATION:PT1H
X-Robots-Tag:noindex
X-PUBLISHED-TTL:PT1H
BEGIN:VTIMEZONE
TZID:Europe/Berlin
BEGIN:DAYLIGHT
TZOFFSETFROM:+0100
TZOFFSETTO:+0200
TZNAME:CEST
DTSTART:20220327T010000
END:DAYLIGHT
BEGIN:STANDARD
TZOFFSETFROM:+0200
TZOFFSETTO:+0100
TZNAME:CET
DTSTART:20221030T010000
END:STANDARD
BEGIN:DAYLIGHT
TZOFFSETFROM:+0100
TZOFFSETTO:+0200
TZNAME:CEST
DTSTART:20230326T010000
END:DAYLIGHT
BEGIN:STANDARD
TZOFFSETFROM:+0200
TZOFFSETTO:+0100
TZNAME:CET
DTSTART:20231029T010000
END:STANDARD
BEGIN:DAYLIGHT
TZOFFSETFROM:+0100
TZOFFSETTO:+0200
TZNAME:CEST
DTSTART:20240331T010000
END:DAYLIGHT
BEGIN:STANDARD
TZOFFSETFROM:+0200
TZOFFSETTO:+0100
TZNAME:CET
DTSTART:20241027T010000
END:STANDARD
END:VTIMEZONE
BEGIN:VEVENT
DTSTART;TZID=Europe/Berlin:20231203T143000
DTEND;TZID=Europe/Berlin:20231203T160000
DTSTAMP:20260425T180855
CREATED:20231004T171949Z
LAST-MODIFIED:20231004T171949Z
UID:4209-1701613800-1701619200@thepolkaseven.de
SUMMARY:Seniorennachmittag in RW - Hausen am 03.12.2023 von 14.30Uhr - 16.00Uhr in der Gemeindehalle
DESCRIPTION:
URL:https://thepolkaseven.de/event/seniorennachmittag-in-rw-hausen-am-03-12-2023-von-14-30uhr-16-00uhr-in-der-gemeindehalle/
END:VEVENT
END:VCALENDAR